BEGIN:VCALENDAR
VERSION:2.0
PRODID:-//Folka-Danse - ECPv6.15.16//NONSGML v1.0//EN
CALSCALE:GREGORIAN
METHOD:PUBLISH
X-WR-CALNAME:Folka-Danse
X-ORIGINAL-URL:https://www.folka-danse-vendee.fr
X-WR-CALDESC:Évènements pour Folka-Danse
REFRESH-INTERVAL;VALUE=DURATION:PT1H
X-Robots-Tag:noindex
X-PUBLISHED-TTL:PT1H
BEGIN:VTIMEZONE
TZID:Europe/Paris
BEGIN:DAYLIGHT
TZOFFSETFROM:+0100
TZOFFSETTO:+0200
TZNAME:CEST
DTSTART:20250330T010000
END:DAYLIGHT
BEGIN:STANDARD
TZOFFSETFROM:+0200
TZOFFSETTO:+0100
TZNAME:CET
DTSTART:20251026T010000
END:STANDARD
BEGIN:DAYLIGHT
TZOFFSETFROM:+0100
TZOFFSETTO:+0200
TZNAME:CEST
DTSTART:20260329T010000
END:DAYLIGHT
BEGIN:STANDARD
TZOFFSETFROM:+0200
TZOFFSETTO:+0100
TZNAME:CET
DTSTART:20261025T010000
END:STANDARD
BEGIN:DAYLIGHT
TZOFFSETFROM:+0100
TZOFFSETTO:+0200
TZNAME:CEST
DTSTART:20270328T010000
END:DAYLIGHT
BEGIN:STANDARD
TZOFFSETFROM:+0200
TZOFFSETTO:+0100
TZNAME:CET
DTSTART:20271031T010000
END:STANDARD
END:VTIMEZONE
BEGIN:VEVENT
DTSTART;TZID=Europe/Paris:20260301T143000
DTEND;TZID=Europe/Paris:20260301T183000
DTSTAMP:20260423T015151
CREATED:20260117T210238Z
LAST-MODIFIED:20260117T210238Z
UID:774-1772375400-1772389800@www.folka-danse-vendee.fr
SUMMARY:Bal Folk avec les Moul'à Gaufres et les Canards Sauvages
DESCRIPTION:Bal Trad/Folk annuel organisé par l’association Folka danse et animé par les groupes Moul’à Gaufres et Canards Sauvages.
URL:https://www.folka-danse-vendee.fr/index.php/event/bal-folk-avec-les-moula-gaufres-et-les-canards-sauvages/
LOCATION:Salle de le Petite Maine\, Rue de la Petite Maine\, LA RABATELIERE\, 85250\, France
CATEGORIES:Bal Folk
ATTACH;FMTTYPE=image/jpeg:https://www.folka-danse-vendee.fr/wp-content/uploads/2026/01/AFFICHE2-BAL-2026-2.jpg
ORGANIZER;CN="Folka Danse":MAILTO:folka.danse@gmail.com
END:VEVENT
END:VCALENDAR