BEGIN:VCALENDAR
VERSION:2.0
PRODID:-//Folka-Danse - ECPv6.15.16//NONSGML v1.0//EN
CALSCALE:GREGORIAN
METHOD:PUBLISH
X-ORIGINAL-URL:https://www.folka-danse-vendee.fr
X-WR-CALDESC:Évènements pour Folka-Danse
REFRESH-INTERVAL;VALUE=DURATION:PT1H
X-Robots-Tag:noindex
X-PUBLISHED-TTL:PT1H
BEGIN:VTIMEZONE
TZID:Europe/Paris
BEGIN:DAYLIGHT
TZOFFSETFROM:+0100
TZOFFSETTO:+0200
TZNAME:CEST
DTSTART:20230326T010000
END:DAYLIGHT
BEGIN:STANDARD
TZOFFSETFROM:+0200
TZOFFSETTO:+0100
TZNAME:CET
DTSTART:20231029T010000
END:STANDARD
BEGIN:DAYLIGHT
TZOFFSETFROM:+0100
TZOFFSETTO:+0200
TZNAME:CEST
DTSTART:20240331T010000
END:DAYLIGHT
BEGIN:STANDARD
TZOFFSETFROM:+0200
TZOFFSETTO:+0100
TZNAME:CET
DTSTART:20241027T010000
END:STANDARD
BEGIN:DAYLIGHT
TZOFFSETFROM:+0100
TZOFFSETTO:+0200
TZNAME:CEST
DTSTART:20250330T010000
END:DAYLIGHT
BEGIN:STANDARD
TZOFFSETFROM:+0200
TZOFFSETTO:+0100
TZNAME:CET
DTSTART:20251026T010000
END:STANDARD
END:VTIMEZONE
BEGIN:VEVENT
DTSTART;TZID=Europe/Paris:20241106T201500
DTEND;TZID=Europe/Paris:20241106T220000
DTSTAMP:20260422T030716
CREATED:20241031T161757Z
LAST-MODIFIED:20241031T161757Z
UID:674-1730924100-1730930400@www.folka-danse-vendee.fr
SUMMARY:Atelier de danses traditionnelles
DESCRIPTION:
URL:https://www.folka-danse-vendee.fr/index.php/event/atelier-de-danses-traditionnelles-35/
LOCATION:Salle de danse de Chavagnes-en-Paillers\, 639 rue Jean de Suzannet\, Chavagnes-en-Paillers\, 85250\, France
CATEGORIES:Atelier de danses traditionnelle
ORGANIZER;CN="Folka Danse":MAILTO:folka.danse@gmail.com
END:VEVENT
BEGIN:VEVENT
DTSTART;TZID=Europe/Paris:20241120T201500
DTEND;TZID=Europe/Paris:20241120T220000
DTSTAMP:20260422T030716
CREATED:20241031T162019Z
LAST-MODIFIED:20241031T162019Z
UID:678-1732133700-1732140000@www.folka-danse-vendee.fr
SUMMARY:Atelier de danses traditionnelles
DESCRIPTION:
URL:https://www.folka-danse-vendee.fr/index.php/event/atelier-de-danses-traditionnelles-36/
LOCATION:Salle de danse de Chavagnes-en-Paillers\, 639 rue Jean de Suzannet\, Chavagnes-en-Paillers\, 85250\, France
CATEGORIES:Atelier de danses traditionnelle
ORGANIZER;CN="Folka Danse":MAILTO:folka.danse@gmail.com
END:VEVENT
BEGIN:VEVENT
DTSTART;TZID=Europe/Paris:20241127T201500
DTEND;TZID=Europe/Paris:20241127T220000
DTSTAMP:20260422T030716
CREATED:20241031T162145Z
LAST-MODIFIED:20241031T162145Z
UID:682-1732738500-1732744800@www.folka-danse-vendee.fr
SUMMARY:Atelier de danses traditionnelles avec Moul'à Gaufres
DESCRIPTION:
URL:https://www.folka-danse-vendee.fr/index.php/event/atelier-de-danses-traditionnelles-avec-moula-gaufres-2/
LOCATION:Salle de danse de Chavagnes-en-Paillers\, 639 rue Jean de Suzannet\, Chavagnes-en-Paillers\, 85250\, France
CATEGORIES:Atelier de danses traditionnelle
ORGANIZER;CN="Folka Danse":MAILTO:folka.danse@gmail.com
END:VEVENT
END:VCALENDAR