BEGIN:VCALENDAR
VERSION:2.0
PRODID:-//Folka-Danse - ECPv6.15.16//NONSGML v1.0//EN
CALSCALE:GREGORIAN
METHOD:PUBLISH
X-WR-CALNAME:Folka-Danse
X-ORIGINAL-URL:https://www.folka-danse-vendee.fr
X-WR-CALDESC:Évènements pour Folka-Danse
REFRESH-INTERVAL;VALUE=DURATION:PT1H
X-Robots-Tag:noindex
X-PUBLISHED-TTL:PT1H
BEGIN:VTIMEZONE
TZID:Europe/Paris
BEGIN:DAYLIGHT
TZOFFSETFROM:+0100
TZOFFSETTO:+0200
TZNAME:CEST
DTSTART:20250330T010000
END:DAYLIGHT
BEGIN:STANDARD
TZOFFSETFROM:+0200
TZOFFSETTO:+0100
TZNAME:CET
DTSTART:20251026T010000
END:STANDARD
BEGIN:DAYLIGHT
TZOFFSETFROM:+0100
TZOFFSETTO:+0200
TZNAME:CEST
DTSTART:20260329T010000
END:DAYLIGHT
BEGIN:STANDARD
TZOFFSETFROM:+0200
TZOFFSETTO:+0100
TZNAME:CET
DTSTART:20261025T010000
END:STANDARD
BEGIN:DAYLIGHT
TZOFFSETFROM:+0100
TZOFFSETTO:+0200
TZNAME:CEST
DTSTART:20270328T010000
END:DAYLIGHT
BEGIN:STANDARD
TZOFFSETFROM:+0200
TZOFFSETTO:+0100
TZNAME:CET
DTSTART:20271031T010000
END:STANDARD
END:VTIMEZONE
BEGIN:VEVENT
DTSTART;TZID=Europe/Paris:20260225T201500
DTEND;TZID=Europe/Paris:20260225T220000
DTSTAMP:20260423T000907
CREATED:20260117T204405Z
LAST-MODIFIED:20260117T204405Z
UID:752-1772050500-1772056800@www.folka-danse-vendee.fr
SUMMARY:Atelier de danses traditionnelles avec Anne-Marie et Gérard\, Monique et Bernard
DESCRIPTION:
URL:https://www.folka-danse-vendee.fr/index.php/event/atelier-de-danses-traditionnelles-avec-anne-marie-et-gerard-monique-et-bernard-3/
LOCATION:Salle de danse de Chavagnes-en-Paillers\, 639 rue Jean de Suzannet\, Chavagnes-en-Paillers\, 85250\, France
CATEGORIES:Atelier de danses traditionnelle
ORGANIZER;CN="Folka Danse":MAILTO:folka.danse@gmail.com
END:VEVENT
END:VCALENDAR